BEGIN:VCALENDAR
VERSION:2.0
PRODID:-//Project Beacon - ECPv6.15.17//NONSGML v1.0//EN
CALSCALE:GREGORIAN
METHOD:PUBLISH
X-WR-CALNAME:Project Beacon
X-ORIGINAL-URL:https://projectbeacontx.org
X-WR-CALDESC:Events for Project Beacon
REFRESH-INTERVAL;VALUE=DURATION:PT1H
X-Robots-Tag:noindex
X-PUBLISHED-TTL:PT1H
BEGIN:VTIMEZONE
TZID:UTC
BEGIN:STANDARD
TZOFFSETFROM:+0000
TZOFFSETTO:+0000
TZNAME:UTC
DTSTART:20240101T000000
END:STANDARD
END:VTIMEZONE
BEGIN:VEVENT
DTSTART;TZID=UTC:20251024T183000
DTEND;TZID=UTC:20251024T220000
DTSTAMP:20260421T080622
CREATED:20250414T174633Z
LAST-MODIFIED:20250626T213134Z
UID:5525-1761330600-1761343200@projectbeacontx.org
SUMMARY:Nashville Nights - Beacon in the Big Barn
DESCRIPTION:Join us for a magical evening at Dosey Doe in the Big Barn as we bring a slice of Music City to our doorstep with our Second-Annual Nashville Nights: Beacon in the Big Barn! This exclusive event features legendary Nashville songwriter and performer Jeffrey Steele\, ready to light up the stage with chart-topping hits\, heartfelt lyrics\, and unforgettable stories behind the music. 						\n				\n				\n				\n					\n			\n		\n				\n				\n				\n				\n			Details:		\n				\n				\n				\n							October 24\, 20256:30 PM – 10:30 PMThe Big Barn at Dosey Doe – Spring\, TX 						\n				\n				\n				\n							\n					\n						\n									Sponsorship Package\n					\n					\n				\n						\n				\n				\n				\n					\n			\n		\n				\n				\n				\n				\n			What to Expect:		\n				\n				\n				\n							Live Music:Experience a private concert with Jeffrey Steele\, one of Nashville’s most iconic hitmakers. With songs recorded by Rascal Flatts\, Keith Urban\, Tim McGraw\, Faith Hill\, and more—this is your chance to hear the stories behind the songs\, performed by the man who wrote them. Great Food:Savor a chef-prepared Southern-inspired menu that’ll delight every palate. From savory mains to indulgent desserts\, your evening will be full of flavor. Drinks Included:Enjoy a full bar with curated wines\, signature cocktails\, and local brews—all included with your ticket. 						\n				\n				\n				\n					\n			\n		\n				\n				\n				\n				\n			The Performer: Jeffrey Steele		\n				\n				\n				\n							Six-time GRAMMY nominee. Nashville Songwriters Hall of Fame inductee. Writer of over 65 million radio spins. His iconic hits include: “What Hurts the Most” – Rascal Flatts “My Wish” – Rascal Flatts “The Cowboy in Me” – Tim McGraw “Knee Deep” – Zac Brown Band feat. Jimmy Buffett “My Town” – Montgomery Gentry “Something to Be Proud Of” – Montgomery Gentry He’s penned hits for Cher\, Faith Hill\, Eric Church\, Trace Adkins\, LeAnn Rimes\, and more. His live performance blends storytelling\, soul\, and Southern grit—a true Nashville experience. 						\n				\n				\n				\n					\n			\n		\n				\n				\n				\n				\n			What to Wear:		\n				\n				\n				\n							Think Nashville Glam\, where charming Southern attire meets big-city chic. Gentlemen are encouraged to don their best denim jeans paired with collared shirts and an optional blazer.  For outfit inspiration\, women can think about what they would wear to a cute and casual date night and add a touch of country flair for a stylish look.  						\n				\n				\n				\n					\n			\n		\n				\n				\n				\n				\n			Why You Should Attend:		\n				\n				\n				\n							Exclusive Experience:  An intimate setting with limited seating ensures you get up close and personal with the artists. Culinary Delights:  Indulge in a gourmet experience with our thoughtfully curated menu. All-Inclusive:  Enjoy a worry-free evening with food and drinks included in your ticket price. Support Live Music:  Be a part of a special night that celebrates and supports live music.  Support Project Beacon: Proceeds benefit Project Beacon and our newest initiative\, The Beacon Access Center\, providing innovative day programming and life-skills training for neurodiverse adults. Your support helps us expand inclusive opportunities and light the path for individuals and families who need it most. 						\n				\n				\n				\n					\n			\n		\n				\n				\n				\n				\n			Tickets and More Information:		\n				\n				\n				\n							\n					\n						\n									Click here\n					\n					\n				\n						\n				\n				\n				\n					\n			\n		\n				\n				\n				\n				\n			\n	\n		\n\n	\n	Add to calendar	\n		\n	\n\n		\n			\n									\n	Google Calendar\n\n									\n	iCalendar\n\n									\n	Outlook 365\n\n									\n	Outlook Live\n\n							\n		\n\n		\n	\n\n		\n				\n				\n				\n			\n				\n				\n	\n	Dosey Doe\n	\n	\n\n25911 Interstate 45\n	\n		\n		Spring\,\n\n	TX\n\n	77380\n\n	United States\n\n\n\n\n	+ Google Map \n\n\n	\n					\n						\n	 \n\n\n	\n	View Venue Website \n\n\n\n	\n\n\n\n		\n	\n		\n				\n					\n		\n					\n		\n				\n						\n					\n			\n						\n				\n							Strengthened our support base count up to 876.
URL:https://projectbeacontx.org/event/nashville-nights-beacon-in-the-big-barn/
LOCATION:Dosey Doe\, 25911 Interstate 45\, Spring\, TX\, 77380\, United States
CATEGORIES:Fundraising
ATTACH;FMTTYPE=image/png:https://projectbeacontx.org/wp-content/uploads/2025/04/PB-Nashville-Nights-2025-Save-the-Date.png
ORGANIZER;CN="Project Beacon":MAILTO:programs@projectbeacontx.org
END:VEVENT
END:VCALENDAR