BEGIN:VCALENDAR
VERSION:2.0
PRODID:-//Project Beacon - ECPv6.15.17//NONSGML v1.0//EN
CALSCALE:GREGORIAN
METHOD:PUBLISH
X-WR-CALNAME:Project Beacon
X-ORIGINAL-URL:https://projectbeacontx.org
X-WR-CALDESC:Events for Project Beacon
REFRESH-INTERVAL;VALUE=DURATION:PT1H
X-Robots-Tag:noindex
X-PUBLISHED-TTL:PT1H
BEGIN:VTIMEZONE
TZID:America/Chicago
BEGIN:DAYLIGHT
TZOFFSETFROM:-0600
TZOFFSETTO:-0500
TZNAME:CDT
DTSTART:20230312T080000
END:DAYLIGHT
BEGIN:STANDARD
TZOFFSETFROM:-0500
TZOFFSETTO:-0600
TZNAME:CST
DTSTART:20231105T070000
END:STANDARD
BEGIN:DAYLIGHT
TZOFFSETFROM:-0600
TZOFFSETTO:-0500
TZNAME:CDT
DTSTART:20240310T080000
END:DAYLIGHT
BEGIN:STANDARD
TZOFFSETFROM:-0500
TZOFFSETTO:-0600
TZNAME:CST
DTSTART:20241103T070000
END:STANDARD
BEGIN:DAYLIGHT
TZOFFSETFROM:-0600
TZOFFSETTO:-0500
TZNAME:CDT
DTSTART:20250309T080000
END:DAYLIGHT
BEGIN:STANDARD
TZOFFSETFROM:-0500
TZOFFSETTO:-0600
TZNAME:CST
DTSTART:20251102T070000
END:STANDARD
END:VTIMEZONE
BEGIN:VTIMEZONE
TZID:UTC
BEGIN:STANDARD
TZOFFSETFROM:+0000
TZOFFSETTO:+0000
TZNAME:UTC
DTSTART:20230101T000000
END:STANDARD
END:VTIMEZONE
BEGIN:VEVENT
DTSTART;TZID=America/Chicago:20240824T110000
DTEND;TZID=America/Chicago:20240824T130000
DTSTAMP:20260422T120009
CREATED:20240813T233712Z
LAST-MODIFIED:20240813T234250Z
UID:4612-1724497200-1724504400@projectbeacontx.org
SUMMARY:Beacon Bowling!
DESCRIPTION:Get Connected		\n				\n					\n		\n					\n		\n				\n						\n					\n			\n						\n				\n							Join us on October 2\, 2024\, at 11:00 AM for networking and introductions to a dynamic group of leaders in our community. This session will offer information\, tools\, strategies\, and best practices that will help participants gain needed skills to support neurodiverse individuals in developing healthy\, safe\, and sustainable relationships.   						\n				\n				\n				\n							\n					\n						\n									Reserve Your Seat! \n					\n					\n				\n						\n				\n				\n				\n			More about our Key Speakers!		\n				\n				\n				\n							Jamie Freels-Runey is the Executive Director for MOSAICS and brings over 20 years’ experience working in hospital administration for Universal Health Systems (UHS)\, Springstone Health\, Memorial Hermann Health Care System\, and Eating Recovery Center. Her experience includes in-house and corporate communications\, long- and short-term marketing plans\, and referral development through Business-2-Business relationships. Jamie’s expertise also includes hospital startup systems\, marketing development\, event planning\, vendor fairs\, community development\, and the training and supervision of other marketing professionals. She is passionate about communication and creating efficient systems. Jamie also recenty completed her MBA in Healthcare Administration at the University of Texas. She and her husband live on Lake Conroe and love the outdoors. They have 3 children\, and 2 dogs. 						\n				\n				\n				\n			More about our Networking Group!		\n				\n				\n				\n							This networking group aims to bring together organizations\, professionals\, and advocates who are passionate about neurodiversity and committed to improving the lives of neurodiverse individuals and their families in Montgomery County. By collaborating and sharing best practices\, resources\, and expertise\, we aim to create a Center of Excellence that will serve as a hub for: Support Services: Identifying providers offering a comprehensive range of support services\, including education\, employment\, social integration\, and mental health support\, tailored to the needs of neurodiverse individuals. Research and Development: Supporting research and innovation in our community to improve our understanding and approaches to supporting and providing resources to the neurodiverse community. Advocacy and Awareness: Raising awareness about neurodiversity and advocating for inclusive policies and practices in our community. Training and Education: Providing training and professional development opportunities for support providers\, educators\, and community members to enhance their skills in working with neurodiverse individuals. Community Engagement: Organizing events\, workshops\, and awareness campaigns to engage with the broader community and promote acceptance and inclusion. We believe that by pooling our expertise and resources\, we can create a powerful network that will have a lasting positive impact on the lives of neurodiverse individuals and their families in Montgomery County. 						\n				\n				\n				\n							\n					\n						\n									Reserve Your Seat! \n					\n					\n				\n						\n				\n					\n		\n					\n		\n				\n						\n					\n			\n						\n				\n			Lunch Sponsor
URL:https://projectbeacontx.org/event/beacon-bowling/
LOCATION:Time to Spare\, 13027 TX-105\, Conroe\, Texas\, 77306
CATEGORIES:Social Enrichment
ATTACH;FMTTYPE=image/png:https://projectbeacontx.org/wp-content/uploads/2024/08/invite.png
ORGANIZER;CN="Project Beacon":MAILTO:programs@projectbeacontx.org
END:VEVENT
BEGIN:VEVENT
DTSTART;TZID=America/Chicago:20240727T110000
DTEND;TZID=America/Chicago:20240727T130000
DTSTAMP:20260422T120009
CREATED:20240710T210749Z
LAST-MODIFIED:20240718T193426Z
UID:4386-1722078000-1722085200@projectbeacontx.org
SUMMARY:Ice Cream Sundae Funday Karaoke Party
DESCRIPTION:Get Connected		\n				\n					\n		\n					\n		\n				\n						\n					\n			\n						\n				\n							Join us on October 2\, 2024\, at 11:00 AM for networking and introductions to a dynamic group of leaders in our community. This session will offer information\, tools\, strategies\, and best practices that will help participants gain needed skills to support neurodiverse individuals in developing healthy\, safe\, and sustainable relationships.   						\n				\n				\n				\n							\n					\n						\n									Reserve Your Seat! \n					\n					\n				\n						\n				\n				\n				\n			More about our Key Speakers!		\n				\n				\n				\n							Jamie Freels-Runey is the Executive Director for MOSAICS and brings over 20 years’ experience working in hospital administration for Universal Health Systems (UHS)\, Springstone Health\, Memorial Hermann Health Care System\, and Eating Recovery Center. Her experience includes in-house and corporate communications\, long- and short-term marketing plans\, and referral development through Business-2-Business relationships. Jamie’s expertise also includes hospital startup systems\, marketing development\, event planning\, vendor fairs\, community development\, and the training and supervision of other marketing professionals. She is passionate about communication and creating efficient systems. Jamie also recenty completed her MBA in Healthcare Administration at the University of Texas. She and her husband live on Lake Conroe and love the outdoors. They have 3 children\, and 2 dogs. 						\n				\n				\n				\n			More about our Networking Group!		\n				\n				\n				\n							This networking group aims to bring together organizations\, professionals\, and advocates who are passionate about neurodiversity and committed to improving the lives of neurodiverse individuals and their families in Montgomery County. By collaborating and sharing best practices\, resources\, and expertise\, we aim to create a Center of Excellence that will serve as a hub for: Support Services: Identifying providers offering a comprehensive range of support services\, including education\, employment\, social integration\, and mental health support\, tailored to the needs of neurodiverse individuals. Research and Development: Supporting research and innovation in our community to improve our understanding and approaches to supporting and providing resources to the neurodiverse community. Advocacy and Awareness: Raising awareness about neurodiversity and advocating for inclusive policies and practices in our community. Training and Education: Providing training and professional development opportunities for support providers\, educators\, and community members to enhance their skills in working with neurodiverse individuals. Community Engagement: Organizing events\, workshops\, and awareness campaigns to engage with the broader community and promote acceptance and inclusion. We believe that by pooling our expertise and resources\, we can create a powerful network that will have a lasting positive impact on the lives of neurodiverse individuals and their families in Montgomery County. 						\n				\n				\n				\n							\n					\n						\n									Reserve Your Seat! \n					\n					\n				\n						\n				\n					\n		\n					\n		\n				\n						\n					\n			\n						\n				\n			Lunch Sponsor
URL:https://projectbeacontx.org/event/ice-cream-fundae-karaoke-party/
LOCATION:Team Abilities\, 611 Westridge Drive\, Spring\, TX\, 77380\, United States
CATEGORIES:Social Enrichment
ATTACH;FMTTYPE=image/png:https://projectbeacontx.org/wp-content/uploads/2024/07/ICE-CREAM-FUN-DAY-1-YEAR-2.png
ORGANIZER;CN="Project Beacon":MAILTO:programs@projectbeacontx.org
END:VEVENT
BEGIN:VEVENT
DTSTART;TZID=UTC:20240629T110000
DTEND;TZID=UTC:20240629T130000
DTSTAMP:20260422T120009
CREATED:20240608T002853Z
LAST-MODIFIED:20240613T010932Z
UID:4020-1719658800-1719666000@projectbeacontx.org
SUMMARY:Sunny Days Carnival Extravaganza
DESCRIPTION:Get Connected		\n				\n					\n		\n					\n		\n				\n						\n					\n			\n						\n				\n							Join us on October 2\, 2024\, at 11:00 AM for networking and introductions to a dynamic group of leaders in our community. This session will offer information\, tools\, strategies\, and best practices that will help participants gain needed skills to support neurodiverse individuals in developing healthy\, safe\, and sustainable relationships.   						\n				\n				\n				\n							\n					\n						\n									Reserve Your Seat! \n					\n					\n				\n						\n				\n				\n				\n			More about our Key Speakers!		\n				\n				\n				\n							Jamie Freels-Runey is the Executive Director for MOSAICS and brings over 20 years’ experience working in hospital administration for Universal Health Systems (UHS)\, Springstone Health\, Memorial Hermann Health Care System\, and Eating Recovery Center. Her experience includes in-house and corporate communications\, long- and short-term marketing plans\, and referral development through Business-2-Business relationships. Jamie’s expertise also includes hospital startup systems\, marketing development\, event planning\, vendor fairs\, community development\, and the training and supervision of other marketing professionals. She is passionate about communication and creating efficient systems. Jamie also recenty completed her MBA in Healthcare Administration at the University of Texas. She and her husband live on Lake Conroe and love the outdoors. They have 3 children\, and 2 dogs. 						\n				\n				\n				\n			More about our Networking Group!		\n				\n				\n				\n							This networking group aims to bring together organizations\, professionals\, and advocates who are passionate about neurodiversity and committed to improving the lives of neurodiverse individuals and their families in Montgomery County. By collaborating and sharing best practices\, resources\, and expertise\, we aim to create a Center of Excellence that will serve as a hub for: Support Services: Identifying providers offering a comprehensive range of support services\, including education\, employment\, social integration\, and mental health support\, tailored to the needs of neurodiverse individuals. Research and Development: Supporting research and innovation in our community to improve our understanding and approaches to supporting and providing resources to the neurodiverse community. Advocacy and Awareness: Raising awareness about neurodiversity and advocating for inclusive policies and practices in our community. Training and Education: Providing training and professional development opportunities for support providers\, educators\, and community members to enhance their skills in working with neurodiverse individuals. Community Engagement: Organizing events\, workshops\, and awareness campaigns to engage with the broader community and promote acceptance and inclusion. We believe that by pooling our expertise and resources\, we can create a powerful network that will have a lasting positive impact on the lives of neurodiverse individuals and their families in Montgomery County. 						\n				\n				\n				\n							\n					\n						\n									Reserve Your Seat! \n					\n					\n				\n						\n				\n					\n		\n					\n		\n				\n						\n					\n			\n						\n				\n			Lunch Sponsor
URL:https://projectbeacontx.org/event/sunny-days-carnival-extravaganza/
LOCATION:Team Abilities\, 611 Westridge Drive\, Spring\, TX\, 77380\, United States
CATEGORIES:Social Enrichment
ATTACH;FMTTYPE=image/png:https://projectbeacontx.org/wp-content/uploads/2024/06/Fun-in-the-Sun-Carn-invite.png
ORGANIZER;CN="Project Beacon":MAILTO:programs@projectbeacontx.org
END:VEVENT
BEGIN:VEVENT
DTSTART;TZID=UTC:20240506T110000
DTEND;TZID=UTC:20240506T200000
DTSTAMP:20260422T120009
CREATED:20240313T130811Z
LAST-MODIFIED:20240313T131224Z
UID:1633-1714993200-1715025600@projectbeacontx.org
SUMMARY:Birdies for Beacon 2024
DESCRIPTION:Get Connected		\n				\n					\n		\n					\n		\n				\n						\n					\n			\n						\n				\n							Join us on October 2\, 2024\, at 11:00 AM for networking and introductions to a dynamic group of leaders in our community. This session will offer information\, tools\, strategies\, and best practices that will help participants gain needed skills to support neurodiverse individuals in developing healthy\, safe\, and sustainable relationships.   						\n				\n				\n				\n							\n					\n						\n									Reserve Your Seat! \n					\n					\n				\n						\n				\n				\n				\n			More about our Key Speakers!		\n				\n				\n				\n							Jamie Freels-Runey is the Executive Director for MOSAICS and brings over 20 years’ experience working in hospital administration for Universal Health Systems (UHS)\, Springstone Health\, Memorial Hermann Health Care System\, and Eating Recovery Center. Her experience includes in-house and corporate communications\, long- and short-term marketing plans\, and referral development through Business-2-Business relationships. Jamie’s expertise also includes hospital startup systems\, marketing development\, event planning\, vendor fairs\, community development\, and the training and supervision of other marketing professionals. She is passionate about communication and creating efficient systems. Jamie also recenty completed her MBA in Healthcare Administration at the University of Texas. She and her husband live on Lake Conroe and love the outdoors. They have 3 children\, and 2 dogs. 						\n				\n				\n				\n			More about our Networking Group!		\n				\n				\n				\n							This networking group aims to bring together organizations\, professionals\, and advocates who are passionate about neurodiversity and committed to improving the lives of neurodiverse individuals and their families in Montgomery County. By collaborating and sharing best practices\, resources\, and expertise\, we aim to create a Center of Excellence that will serve as a hub for: Support Services: Identifying providers offering a comprehensive range of support services\, including education\, employment\, social integration\, and mental health support\, tailored to the needs of neurodiverse individuals. Research and Development: Supporting research and innovation in our community to improve our understanding and approaches to supporting and providing resources to the neurodiverse community. Advocacy and Awareness: Raising awareness about neurodiversity and advocating for inclusive policies and practices in our community. Training and Education: Providing training and professional development opportunities for support providers\, educators\, and community members to enhance their skills in working with neurodiverse individuals. Community Engagement: Organizing events\, workshops\, and awareness campaigns to engage with the broader community and promote acceptance and inclusion. We believe that by pooling our expertise and resources\, we can create a powerful network that will have a lasting positive impact on the lives of neurodiverse individuals and their families in Montgomery County. 						\n				\n				\n				\n							\n					\n						\n									Reserve Your Seat! \n					\n					\n				\n						\n				\n					\n		\n					\n		\n				\n						\n					\n			\n						\n				\n			Lunch Sponsor
URL:https://projectbeacontx.org/event/birdies-for-beacon-2024/
LOCATION:April Sound Golf Club\, 1000 April Sound Boulevard\, Montgomery\, TX\, 77356\, United States
ATTACH;FMTTYPE=image/png:https://projectbeacontx.org/wp-content/uploads/2024/03/BirdiesforBeaconINVITEFLYER.png
END:VEVENT
BEGIN:VEVENT
DTSTART;TZID=UTC:20240410T110000
DTEND;TZID=UTC:20240410T130000
DTSTAMP:20260422T120009
CREATED:20240313T130301Z
LAST-MODIFIED:20240313T131401Z
UID:1632-1712746800-1712754000@projectbeacontx.org
SUMMARY:Neurodiverse Support Providers Networking Group 2024 - LSC Montgomery
DESCRIPTION:Get Connected		\n				\n					\n		\n					\n		\n				\n						\n					\n			\n						\n				\n							Join us on October 2\, 2024\, at 11:00 AM for networking and introductions to a dynamic group of leaders in our community. This session will offer information\, tools\, strategies\, and best practices that will help participants gain needed skills to support neurodiverse individuals in developing healthy\, safe\, and sustainable relationships.   						\n				\n				\n				\n							\n					\n						\n									Reserve Your Seat! \n					\n					\n				\n						\n				\n				\n				\n			More about our Key Speakers!		\n				\n				\n				\n							Jamie Freels-Runey is the Executive Director for MOSAICS and brings over 20 years’ experience working in hospital administration for Universal Health Systems (UHS)\, Springstone Health\, Memorial Hermann Health Care System\, and Eating Recovery Center. Her experience includes in-house and corporate communications\, long- and short-term marketing plans\, and referral development through Business-2-Business relationships. Jamie’s expertise also includes hospital startup systems\, marketing development\, event planning\, vendor fairs\, community development\, and the training and supervision of other marketing professionals. She is passionate about communication and creating efficient systems. Jamie also recenty completed her MBA in Healthcare Administration at the University of Texas. She and her husband live on Lake Conroe and love the outdoors. They have 3 children\, and 2 dogs. 						\n				\n				\n				\n			More about our Networking Group!		\n				\n				\n				\n							This networking group aims to bring together organizations\, professionals\, and advocates who are passionate about neurodiversity and committed to improving the lives of neurodiverse individuals and their families in Montgomery County. By collaborating and sharing best practices\, resources\, and expertise\, we aim to create a Center of Excellence that will serve as a hub for: Support Services: Identifying providers offering a comprehensive range of support services\, including education\, employment\, social integration\, and mental health support\, tailored to the needs of neurodiverse individuals. Research and Development: Supporting research and innovation in our community to improve our understanding and approaches to supporting and providing resources to the neurodiverse community. Advocacy and Awareness: Raising awareness about neurodiversity and advocating for inclusive policies and practices in our community. Training and Education: Providing training and professional development opportunities for support providers\, educators\, and community members to enhance their skills in working with neurodiverse individuals. Community Engagement: Organizing events\, workshops\, and awareness campaigns to engage with the broader community and promote acceptance and inclusion. We believe that by pooling our expertise and resources\, we can create a powerful network that will have a lasting positive impact on the lives of neurodiverse individuals and their families in Montgomery County. 						\n				\n				\n				\n							\n					\n						\n									Reserve Your Seat! \n					\n					\n				\n						\n				\n					\n		\n					\n		\n				\n						\n					\n			\n						\n				\n			Lunch Sponsor
URL:https://projectbeacontx.org/event/neurodiverse-support-providers-networking-group-2024-lsc-montgomery/
LOCATION:LSC- Montgomery\, 3200 College Park Drive\, Conroe\, TX\, 77384\, United States
ATTACH;FMTTYPE=image/png:https://projectbeacontx.org/wp-content/uploads/2024/03/April10thinvite.png
END:VEVENT
BEGIN:VEVENT
DTSTART;TZID=UTC:20240327T190000
DTEND;TZID=UTC:20240327T210000
DTSTAMP:20260422T120009
CREATED:20240313T123523Z
LAST-MODIFIED:20240314T125908Z
UID:1612-1711566000-1711573200@projectbeacontx.org
SUMMARY:Project Beacon Virtual Information Session
DESCRIPTION:Get Connected		\n				\n					\n		\n					\n		\n				\n						\n					\n			\n						\n				\n							Join us on October 2\, 2024\, at 11:00 AM for networking and introductions to a dynamic group of leaders in our community. This session will offer information\, tools\, strategies\, and best practices that will help participants gain needed skills to support neurodiverse individuals in developing healthy\, safe\, and sustainable relationships.   						\n				\n				\n				\n							\n					\n						\n									Reserve Your Seat! \n					\n					\n				\n						\n				\n				\n				\n			More about our Key Speakers!		\n				\n				\n				\n							Jamie Freels-Runey is the Executive Director for MOSAICS and brings over 20 years’ experience working in hospital administration for Universal Health Systems (UHS)\, Springstone Health\, Memorial Hermann Health Care System\, and Eating Recovery Center. Her experience includes in-house and corporate communications\, long- and short-term marketing plans\, and referral development through Business-2-Business relationships. Jamie’s expertise also includes hospital startup systems\, marketing development\, event planning\, vendor fairs\, community development\, and the training and supervision of other marketing professionals. She is passionate about communication and creating efficient systems. Jamie also recenty completed her MBA in Healthcare Administration at the University of Texas. She and her husband live on Lake Conroe and love the outdoors. They have 3 children\, and 2 dogs. 						\n				\n				\n				\n			More about our Networking Group!		\n				\n				\n				\n							This networking group aims to bring together organizations\, professionals\, and advocates who are passionate about neurodiversity and committed to improving the lives of neurodiverse individuals and their families in Montgomery County. By collaborating and sharing best practices\, resources\, and expertise\, we aim to create a Center of Excellence that will serve as a hub for: Support Services: Identifying providers offering a comprehensive range of support services\, including education\, employment\, social integration\, and mental health support\, tailored to the needs of neurodiverse individuals. Research and Development: Supporting research and innovation in our community to improve our understanding and approaches to supporting and providing resources to the neurodiverse community. Advocacy and Awareness: Raising awareness about neurodiversity and advocating for inclusive policies and practices in our community. Training and Education: Providing training and professional development opportunities for support providers\, educators\, and community members to enhance their skills in working with neurodiverse individuals. Community Engagement: Organizing events\, workshops\, and awareness campaigns to engage with the broader community and promote acceptance and inclusion. We believe that by pooling our expertise and resources\, we can create a powerful network that will have a lasting positive impact on the lives of neurodiverse individuals and their families in Montgomery County. 						\n				\n				\n				\n							\n					\n						\n									Reserve Your Seat! \n					\n					\n				\n						\n				\n					\n		\n					\n		\n				\n						\n					\n			\n						\n				\n			Lunch Sponsor
URL:https://projectbeacontx.org/event/project-beacon-virtual-information-session/
ATTACH;FMTTYPE=image/png:https://projectbeacontx.org/wp-content/uploads/2024/03/poster_board_Virtual_Information_session_invite2.png
END:VEVENT
END:VCALENDAR