BEGIN:VCALENDAR
VERSION:2.0
PRODID:-//Project Beacon - ECPv6.15.17//NONSGML v1.0//EN
CALSCALE:GREGORIAN
METHOD:PUBLISH
X-ORIGINAL-URL:https://projectbeacontx.org
X-WR-CALDESC:Events for Project Beacon
REFRESH-INTERVAL;VALUE=DURATION:PT1H
X-Robots-Tag:noindex
X-PUBLISHED-TTL:PT1H
BEGIN:VTIMEZONE
TZID:America/Chicago
BEGIN:DAYLIGHT
TZOFFSETFROM:-0600
TZOFFSETTO:-0500
TZNAME:CDT
DTSTART:20250309T080000
END:DAYLIGHT
BEGIN:STANDARD
TZOFFSETFROM:-0500
TZOFFSETTO:-0600
TZNAME:CST
DTSTART:20251102T070000
END:STANDARD
BEGIN:DAYLIGHT
TZOFFSETFROM:-0600
TZOFFSETTO:-0500
TZNAME:CDT
DTSTART:20260308T080000
END:DAYLIGHT
BEGIN:STANDARD
TZOFFSETFROM:-0500
TZOFFSETTO:-0600
TZNAME:CST
DTSTART:20261101T070000
END:STANDARD
BEGIN:DAYLIGHT
TZOFFSETFROM:-0600
TZOFFSETTO:-0500
TZNAME:CDT
DTSTART:20270314T080000
END:DAYLIGHT
BEGIN:STANDARD
TZOFFSETFROM:-0500
TZOFFSETTO:-0600
TZNAME:CST
DTSTART:20271107T070000
END:STANDARD
END:VTIMEZONE
BEGIN:VEVENT
DTSTART;TZID=America/Chicago:20260122T170000
DTEND;TZID=America/Chicago:20260122T190000
DTSTAMP:20260421T135522
CREATED:20260114T153848Z
LAST-MODIFIED:20260114T153848Z
UID:6824-1769101200-1769108400@projectbeacontx.org
SUMMARY:Beacon Access Center Open House
DESCRIPTION:Looking for programs\, support\, and opportunities for neurodiverse adults? Join us for an Open House at the Beacon Access Center and see how we’re helping individuals build independence\, confidence\, and meaningful connections.\n\n\n\n\n\nThis Open House is a great opportunity for prospective families and community members to tour the center\, meet our team\, and learn more about the programs and services available at Project Beacon. Current families are also welcome to attend.\n\nClick here to RSVP
URL:https://projectbeacontx.org/event/beacon-access-center-open-house/
LOCATION:Beacon Access Center\, 27316 Spectrum Way\, Oak Ridge North\, TX\, 77356\, United States
END:VEVENT
BEGIN:VEVENT
DTSTART;TZID=America/Chicago:20260123T180000
DTEND;TZID=America/Chicago:20260123T200000
DTSTAMP:20260421T135522
CREATED:20251114T145317Z
LAST-MODIFIED:20260113T195016Z
UID:6456-1769191200-1769198400@projectbeacontx.org
SUMMARY:Beacon Social Club - D & D Night
DESCRIPTION:To ensure a positive and engaging experience for everyone in the group\, participants in our D&D nights should be able to participate with minimal support and demonstrate basic communication and social skills in a group setting. \nClick here for details and registration
URL:https://projectbeacontx.org/event/d-d-night/
LOCATION:TX
ORGANIZER;CN="Project Beacon":MAILTO:programs@projectbeacontx.org
END:VEVENT
END:VCALENDAR